BEGIN:VCALENDAR
VERSION:2.0
PRODID:icalendar-ruby
CALSCALE:GREGORIAN
METHOD:PUBLISH
BEGIN:VEVENT
DTSTAMP:20260425T114541Z
UID:145-726962@gfcmeriden.org
DTSTART:20260426T140000Z
DTEND:20260426T150000Z
CLASS:PUBLIC
CREATED:20260424T143038
DESCRIPTION:
LAST-MODIFIED:20260424T143038
LOCATION:131 Windsor Ave\, Meriden\, CT 06451
SUMMARY:Sunday 10:00am Service 
URL;VALUE=URI:https://www.gfcmeriden.org/events/sunday-10-00am-service/2026
 -04-26
END:VEVENT
END:VCALENDAR
