BEGIN:VCALENDAR
VERSION:2.0
PRODID:icalendar-ruby
CALSCALE:GREGORIAN
METHOD:PUBLISH
BEGIN:VEVENT
DTSTAMP:20260425T131908Z
UID:13-727851@gfcmeriden.org
DTSTART:20260917T230000Z
DTEND:20260918T003000Z
CLASS:PUBLIC
CREATED:20260425T072536
DESCRIPTION:
LAST-MODIFIED:20260425T072536
LOCATION:131 Windsor Ave\, Meriden\, CT 06451
SUMMARY:Thursday Bible Study
URL;VALUE=URI:https://www.gfcmeriden.org/events/thursday-bible-study--12/20
 26-09-17
END:VEVENT
END:VCALENDAR
