BEGIN:VCALENDAR
VERSION:2.0
PRODID:icalendar-ruby
CALSCALE:GREGORIAN
METHOD:PUBLISH
BEGIN:VEVENT
DTSTAMP:20260425T160537Z
UID:13-728074@gfcmeriden.org
DTSTART:20261001T230000Z
DTEND:20261002T003000Z
CLASS:PUBLIC
CREATED:20260425T100656
DESCRIPTION:
LAST-MODIFIED:20260425T100656
LOCATION:131 Windsor Ave\, Meriden\, CT 06451
SUMMARY:Thursday Bible Study
URL;VALUE=URI:https://www.gfcmeriden.org/events/thursday-bible-study--12/20
 26-10-01
END:VEVENT
END:VCALENDAR
