BEGIN:VCALENDAR
VERSION:2.0
PRODID:icalendar-ruby
CALSCALE:GREGORIAN
METHOD:PUBLISH
BEGIN:VEVENT
DTSTAMP:20260425T173437Z
UID:13-728296@gfcmeriden.org
DTSTART:20261008T230000Z
DTEND:20261009T003000Z
CLASS:PUBLIC
CREATED:20260425T124716
DESCRIPTION:
LAST-MODIFIED:20260425T124716
LOCATION:131 Windsor Ave\, Meriden\, CT 06451
SUMMARY:Thursday Bible Study
URL;VALUE=URI:https://www.gfcmeriden.org/events/thursday-bible-study--12/20
 26-10-08
END:VEVENT
END:VCALENDAR
