BEGIN:VCALENDAR
VERSION:2.0
PRODID:icalendar-ruby
CALSCALE:GREGORIAN
METHOD:PUBLISH
BEGIN:VEVENT
DTSTAMP:20260425T202351Z
UID:13-728519@gfcmeriden.org
DTSTART:20261022T230000Z
DTEND:20261023T003000Z
CLASS:PUBLIC
CREATED:20260425T152801
DESCRIPTION:
LAST-MODIFIED:20260425T152801
LOCATION:131 Windsor Ave\, Meriden\, CT 06451
SUMMARY:Thursday Bible Study
URL;VALUE=URI:https://www.gfcmeriden.org/events/thursday-bible-study--12/20
 26-10-22
END:VEVENT
END:VCALENDAR
