BEGIN:VCALENDAR
VERSION:2.0
PRODID:icalendar-ruby
CALSCALE:GREGORIAN
METHOD:PUBLISH
BEGIN:VEVENT
DTSTAMP:20260425T232858Z
UID:13-728742@gfcmeriden.org
DTSTART:20261106T000000Z
DTEND:20261106T013000Z
CLASS:PUBLIC
CREATED:20260425T181020
DESCRIPTION:
LAST-MODIFIED:20260425T181020
LOCATION:131 Windsor Ave\, Meriden\, CT 06451
SUMMARY:Thursday Bible Study
URL;VALUE=URI:https://www.gfcmeriden.org/events/thursday-bible-study--12/20
 26-11-05
END:VEVENT
END:VCALENDAR
